BEGIN:VCALENDAR
VERSION:2.0
METHOD:PUBLISH
PRODID:-//imacoda.com//SPD-Web-O-Mat//EN
CALSCALE:GREGORIAN
BEGIN:VTIMEZONE
TZID:Europe/Berlin
BEGIN:DAYLIGHT
TZOFFSETFROM:+0100
RRULE:FREQ=YEARLY;BYMONTH=3;BYDAY=-1SU
DTSTART:19810329T020000
TZNAME:MESZ
TZOFFSETTO:+0200
END:DAYLIGHT
BEGIN:STANDARD
TZOFFSETFROM:+0200
RRULE:FREQ=YEARLY;BYMONTH=10;BYDAY=-1SU
DTSTART:19961027T030000
TZNAME:MEZ
TZOFFSETTO:+0100
END:STANDARD
END:VTIMEZONE
BEGIN:VEVENT
UID:20260212T125320Z-00001175789-LULU@www.bayernspd.de
CREATED:20260212T125320Z
LAST-MODIFIED:20260212T125320Z
DTSTAMP:20260212T125320Z
TRANSP:TRANSPARENT
DTSTART;TZID=Europe/Berlin:20260215T150000
DTEND;TZID=Europe/Berlin:20260215T150000
SUMMARY:🎭 Einladung zum Faschingscafé der SPD Germering 🎭
LOCATION:Eugen-Papst-Straße 4\, 82110 Germering SPD-Büro
DESCRIPTION:Termin im Web (SPD-Unterbezirk Fürstenfeldbruck):\nhttps://s
 pd-ffb.de/termine/?id=1175789
END:VEVENT
END:VCALENDAR
